Package: deconvR Version: 1.10.0 Command: /home/biocbuild/bbs-3.19-bioc/R/bin/R CMD build --keep-empty-dirs --no-resave-data deconvR StartedAt: 2024-10-16 18:06:15 -0400 (Wed, 16 Oct 2024) EndedAt: 2024-10-16 18:08:03 -0400 (Wed, 16 Oct 2024) EllapsedTime: 108.2 seconds RetCode: 0 Status: OK PackageFile: deconvR_1.10.0.tar.gz PackageFileSize: 3.789 MiB