Package: decoupleR Version: 2.10.0 Command: rm -rf decoupleR.buildbin-libdir && mkdir decoupleR.buildbin-libdir && F:\biocbuild\bbs-3.19-bioc\R\bin\R.exe CMD INSTALL --build --library=decoupleR.buildbin-libdir decoupleR_2.10.0.tar.gz StartedAt: 2024-06-27 08:05:39 -0400 (Thu, 27 Jun 2024) EndedAt: 2024-06-27 08:05:59 -0400 (Thu, 27 Jun 2024) EllapsedTime: 19.1 seconds RetCode: 0 Status: OK PackageFile: decoupleR_2.10.0.zip PackageFileSize: 4.36 MiB