Package: decoupleR Version: 2.10.0 Command: chmod a+r decoupleR -R && F:\biocbuild\bbs-3.19-bioc\R\bin\R.exe CMD build --keep-empty-dirs --no-resave-data decoupleR StartedAt: 2024-06-26 18:15:11 -0400 (Wed, 26 Jun 2024) EndedAt: 2024-06-26 18:27:27 -0400 (Wed, 26 Jun 2024) EllapsedTime: 735.4 seconds RetCode: 0 Status: OK PackageFile: decoupleR_2.10.0.tar.gz PackageFileSize: 4.213 MiB