Package: decoupleR Version: 2.10.0 Command: rm -rf decoupleR.buildbin-libdir && mkdir decoupleR.buildbin-libdir && E:\biocbuild\bbs-3.19-bioc\R\bin\R.exe CMD INSTALL --build --library=decoupleR.buildbin-libdir decoupleR_2.10.0.tar.gz StartedAt: 2024-10-17 07:39:28 -0400 (Thu, 17 Oct 2024) EndedAt: 2024-10-17 07:39:55 -0400 (Thu, 17 Oct 2024) EllapsedTime: 26.5 seconds RetCode: 0 Status: OK PackageFile: decoupleR_2.10.0.zip PackageFileSize: 4.36 MiB