Package: deltaCaptureC Version: 1.18.0 Command: rm -rf deltaCaptureC.buildbin-libdir && mkdir deltaCaptureC.buildbin-libdir && /Users/biocbuild/BBS/utils/build-universal.sh deltaCaptureC_1.18.0.tar.gz /Library/Frameworks/R.framework/Resources/bin/R deltaCaptureC.buildbin-libdir StartedAt: 2024-06-11 10:54:25 -0400 (Tue, 11 Jun 2024) EndedAt: 2024-06-11 10:55:29 -0400 (Tue, 11 Jun 2024) EllapsedTime: 64.4 seconds RetCode: 0 Status: OK PackageFile: deltaCaptureC_1.18.0.tgz PackageFileSize: 647.9 KiB