Package: deltaCaptureC Version: 1.18.0 Command: /home/biocbuild/R/R-beta-2024-04-15_r86425/bin/R CMD check --install=check:deltaCaptureC.install-out.txt --library=/home/biocbuild/R/R-beta-2024-04-15_r86425/site-library --no-vignettes --timings deltaCaptureC_1.18.0.tar.gz StartedAt: 2024-05-09 06:40:28 -0000 (Thu, 09 May 2024) EndedAt: 2024-05-09 06:46:23 -0000 (Thu, 09 May 2024) EllapsedTime: 355.6 seconds RetCode: 0 Status: OK CheckDir: deltaCaptureC.Rcheck Warnings: 0