Package: deltaCaptureC Version: 1.18.0 Command: /Library/Frameworks/R.framework/Resources/bin/R CMD build --keep-empty-dirs --no-resave-data deltaCaptureC StartedAt: 2024-10-16 18:34:49 -0400 (Wed, 16 Oct 2024) EndedAt: 2024-10-16 18:40:39 -0400 (Wed, 16 Oct 2024) EllapsedTime: 350.5 seconds RetCode: 0 Status: OK PackageFile: deltaCaptureC_1.18.0.tar.gz PackageFileSize: 365.6 KiB