Package: deltaCaptureC Version: 1.18.0 Command: /home/biocbuild/bbs-3.19-bioc/R/bin/R CMD check --install=check:deltaCaptureC.install-out.txt --library=/home/biocbuild/bbs-3.19-bioc/R/site-library --timings deltaCaptureC_1.18.0.tar.gz StartedAt: 2024-10-16 23:39:59 -0400 (Wed, 16 Oct 2024) EndedAt: 2024-10-16 23:46:23 -0400 (Wed, 16 Oct 2024) EllapsedTime: 383.8 seconds RetCode: 0 Status: OK CheckDir: deltaCaptureC.Rcheck Warnings: 0