Package: deltaCaptureC Version: 1.18.0 Command: rm -rf deltaCaptureC.buildbin-libdir && mkdir deltaCaptureC.buildbin-libdir && E:\biocbuild\bbs-3.19-bioc\R\bin\R.exe CMD INSTALL --build --library=deltaCaptureC.buildbin-libdir deltaCaptureC_1.18.0.tar.gz StartedAt: 2024-10-17 07:40:20 -0400 (Thu, 17 Oct 2024) EndedAt: 2024-10-17 07:41:23 -0400 (Thu, 17 Oct 2024) EllapsedTime: 63.2 seconds RetCode: 0 Status: OK PackageFile: deltaCaptureC_1.18.0.zip PackageFileSize: 598.1 KiB