Package: diffcoexp Version: 1.24.0 Command: rm -rf diffcoexp.buildbin-libdir && mkdir diffcoexp.buildbin-libdir && /Users/biocbuild/BBS/utils/build-universal.sh diffcoexp_1.24.0.tar.gz /Library/Frameworks/R.framework/Resources/bin/R diffcoexp.buildbin-libdir StartedAt: 2024-10-18 18:11:39 -0400 (Fri, 18 Oct 2024) EndedAt: 2024-10-18 18:12:22 -0400 (Fri, 18 Oct 2024) EllapsedTime: 43.2 seconds RetCode: 0 Status: OK PackageFile: diffcoexp_1.24.0.tgz PackageFileSize: 318.3 KiB