Package: diffcoexp Version: 1.24.0 Command: /Library/Frameworks/R.framework/Resources/bin/R CMD INSTALL diffcoexp StartedAt: 2024-10-16 16:25:16 -0400 (Wed, 16 Oct 2024) EndedAt: 2024-10-16 16:26:20 -0400 (Wed, 16 Oct 2024) EllapsedTime: 64.4 seconds RetCode: 0 Status: OK