Package: diffcoexp Version: 1.24.0 Command: E:\biocbuild\bbs-3.19-bioc\R\bin\R.exe CMD check --no-multiarch --install=check:diffcoexp.install-out.txt --library=E:\biocbuild\bbs-3.19-bioc\R\library --no-vignettes --timings diffcoexp_1.24.0.tar.gz StartedAt: 2024-10-17 00:52:56 -0400 (Thu, 17 Oct 2024) EndedAt: 2024-10-17 00:56:52 -0400 (Thu, 17 Oct 2024) EllapsedTime: 235.3 seconds RetCode: 0 Status: OK CheckDir: diffcoexp.Rcheck Warnings: 0