Package: diffuStats Version: 1.24.0 Maintainer: Sergio Picart-Armada MaintainerEmail: sergi.picart at upc.edu git_url: https://git.bioconductor.org/packages/diffuStats git_branch: RELEASE_3_19 git_last_commit: 0d21dac git_last_commit_date: 2024-04-30 10:59:11 -0400 (Tue, 30 Apr 2024)