Package: diffuStats Version: 1.24.0 Command: rm -rf diffuStats.buildbin-libdir && mkdir diffuStats.buildbin-libdir && /Users/biocbuild/BBS/utils/build-universal.sh diffuStats_1.24.0.tar.gz /Library/Frameworks/R.framework/Resources/bin/R diffuStats.buildbin-libdir StartedAt: 2024-10-18 18:12:25 -0400 (Fri, 18 Oct 2024) EndedAt: 2024-10-18 18:12:58 -0400 (Fri, 18 Oct 2024) EllapsedTime: 33.1 seconds RetCode: 0 Status: OK PackageFile: diffuStats_1.24.0.tgz PackageFileSize: 1.431 MiB