Package: diffuStats Version: 1.24.0 Command: /Library/Frameworks/R.framework/Resources/bin/R CMD check --install=check:diffuStats.install-out.txt --library=/Library/Frameworks/R.framework/Resources/library --no-vignettes --timings diffuStats_1.24.0.tar.gz StartedAt: 2024-06-09 20:00:28 -0400 (Sun, 09 Jun 2024) EndedAt: 2024-06-09 20:01:54 -0400 (Sun, 09 Jun 2024) EllapsedTime: 86.0 seconds RetCode: 0 Status: OK CheckDir: diffuStats.Rcheck Warnings: 0