Package: diffuStats Version: 1.24.0 Command: /home/biocbuild/bbs-3.19-bioc/R/bin/R CMD build --keep-empty-dirs --no-resave-data diffuStats StartedAt: 2024-10-16 18:13:46 -0400 (Wed, 16 Oct 2024) EndedAt: 2024-10-16 18:14:29 -0400 (Wed, 16 Oct 2024) EllapsedTime: 43.1 seconds RetCode: 0 Status: OK PackageFile: diffuStats_1.24.0.tar.gz PackageFileSize: 1.277 MiB