Package: diffuStats Version: 1.24.0 Command: rm -rf diffuStats.buildbin-libdir && mkdir diffuStats.buildbin-libdir && F:\biocbuild\bbs-3.19-bioc\R\bin\R.exe CMD INSTALL --build --library=diffuStats.buildbin-libdir diffuStats_1.24.0.tar.gz StartedAt: 2024-06-27 08:07:34 -0400 (Thu, 27 Jun 2024) EndedAt: 2024-06-27 08:08:23 -0400 (Thu, 27 Jun 2024) EllapsedTime: 49.1 seconds RetCode: 0 Status: OK PackageFile: diffuStats_1.24.0.zip PackageFileSize: 1.306 MiB