Package: diffuStats Version: 1.24.0 Command: chmod a+r diffuStats -R && F:\biocbuild\bbs-3.19-bioc\R\bin\R.exe CMD build --keep-empty-dirs --no-resave-data diffuStats StartedAt: 2024-06-26 18:26:04 -0400 (Wed, 26 Jun 2024) EndedAt: 2024-06-26 18:27:18 -0400 (Wed, 26 Jun 2024) EllapsedTime: 73.8 seconds RetCode: 0 Status: OK PackageFile: diffuStats_1.24.0.tar.gz PackageFileSize: 930.4 KiB