Package: dinoR Version: 1.0.0 Command: /Library/Frameworks/R.framework/Resources/bin/R CMD build --keep-empty-dirs --no-resave-data dinoR StartedAt: 2024-10-16 23:24:34 -0400 (Wed, 16 Oct 2024) EndedAt: 2024-10-16 23:25:57 -0400 (Wed, 16 Oct 2024) EllapsedTime: 83.3 seconds RetCode: 0 Status: OK PackageFile: dinoR_1.0.0.tar.gz PackageFileSize: 3.244 MiB