Package: dinoR Version: 1.0.0 Command: /Library/Frameworks/R.framework/Resources/bin/R CMD INSTALL dinoR StartedAt: 2024-10-16 17:08:19 -0400 (Wed, 16 Oct 2024) EndedAt: 2024-10-16 17:08:51 -0400 (Wed, 16 Oct 2024) EllapsedTime: 31.8 seconds RetCode: 0 Status: OK