Package: dinoR Version: 1.0.0 Command: /Library/Frameworks/R.framework/Resources/bin/R CMD check --install=check:dinoR.install-out.txt --library=/Library/Frameworks/R.framework/Resources/library --no-vignettes --timings dinoR_1.0.0.tar.gz StartedAt: 2024-10-17 04:22:29 -0400 (Thu, 17 Oct 2024) EndedAt: 2024-10-17 04:32:08 -0400 (Thu, 17 Oct 2024) EllapsedTime: 578.8 seconds RetCode: 0 Status: OK CheckDir: dinoR.Rcheck Warnings: 0