Package: dinoR Version: 1.0.0 Command: /home/biocbuild/bbs-3.19-bioc/R/bin/R CMD INSTALL dinoR StartedAt: 2024-10-16 16:16:18 -0400 (Wed, 16 Oct 2024) EndedAt: 2024-10-16 16:16:43 -0400 (Wed, 16 Oct 2024) EllapsedTime: 25.9 seconds RetCode: 0 Status: OK