Package: dinoR Version: 1.0.0 Command: chmod a+r dinoR -R && E:\biocbuild\bbs-3.19-bioc\R\bin\R.exe CMD build --keep-empty-dirs --no-resave-data dinoR StartedAt: 2024-10-16 18:43:38 -0400 (Wed, 16 Oct 2024) EndedAt: 2024-10-16 18:44:58 -0400 (Wed, 16 Oct 2024) EllapsedTime: 80.6 seconds RetCode: 0 Status: OK PackageFile: dinoR_1.0.0.tar.gz PackageFileSize: 2.798 MiB