Package: dir.expiry Version: 1.12.0 Command: rm -rf dir.expiry.buildbin-libdir && mkdir dir.expiry.buildbin-libdir && /Users/biocbuild/BBS/utils/build-universal.sh dir.expiry_1.12.0.tar.gz /Library/Frameworks/R.framework/Resources/bin/R dir.expiry.buildbin-libdir StartedAt: 2024-10-18 18:12:59 -0400 (Fri, 18 Oct 2024) EndedAt: 2024-10-18 18:13:03 -0400 (Fri, 18 Oct 2024) EllapsedTime: 4.6 seconds RetCode: 0 Status: OK PackageFile: dir.expiry_1.12.0.tgz PackageFileSize: 312.9 KiB