Package: dir.expiry Version: 1.12.0 Command: /Library/Frameworks/R.framework/Resources/bin/R CMD build --keep-empty-dirs --no-resave-data dir.expiry StartedAt: 2024-10-16 23:25:57 -0400 (Wed, 16 Oct 2024) EndedAt: 2024-10-16 23:26:04 -0400 (Wed, 16 Oct 2024) EllapsedTime: 6.9 seconds RetCode: 0 Status: OK PackageFile: dir.expiry_1.12.0.tar.gz PackageFileSize: 300.6 KiB