Package: dir.expiry Version: 1.12.0 Command: /Library/Frameworks/R.framework/Resources/bin/R CMD build --keep-empty-dirs --no-resave-data dir.expiry StartedAt: 2024-10-16 18:46:46 -0400 (Wed, 16 Oct 2024) EndedAt: 2024-10-16 18:47:02 -0400 (Wed, 16 Oct 2024) EllapsedTime: 15.4 seconds RetCode: 0 Status: OK PackageFile: dir.expiry_1.12.0.tar.gz PackageFileSize: 300.6 KiB