Package: dir.expiry Version: 1.12.0 Command: /home/biocbuild/bbs-3.19-bioc/R/bin/R CMD build --keep-empty-dirs --no-resave-data dir.expiry StartedAt: 2024-10-16 18:14:19 -0400 (Wed, 16 Oct 2024) EndedAt: 2024-10-16 18:14:24 -0400 (Wed, 16 Oct 2024) EllapsedTime: 5.0 seconds RetCode: 0 Status: OK PackageFile: dir.expiry_1.12.0.tar.gz PackageFileSize: 300.7 KiB