Package: dir.expiry Version: 1.12.0 Command: rm -rf dir.expiry.buildbin-libdir && mkdir dir.expiry.buildbin-libdir && E:\biocbuild\bbs-3.19-bioc\R\bin\R.exe CMD INSTALL --build --library=dir.expiry.buildbin-libdir dir.expiry_1.12.0.tar.gz StartedAt: 2024-10-17 07:42:03 -0400 (Thu, 17 Oct 2024) EndedAt: 2024-10-17 07:42:10 -0400 (Thu, 17 Oct 2024) EllapsedTime: 7.5 seconds RetCode: 0 Status: OK PackageFile: dir.expiry_1.12.0.zip PackageFileSize: 319.2 KiB