Package: dir.expiry Version: 1.12.0 Command: chmod a+r dir.expiry -R && E:\biocbuild\bbs-3.19-bioc\R\bin\R.exe CMD build --keep-empty-dirs --no-resave-data dir.expiry StartedAt: 2024-10-16 18:43:39 -0400 (Wed, 16 Oct 2024) EndedAt: 2024-10-16 18:43:49 -0400 (Wed, 16 Oct 2024) EllapsedTime: 10.0 seconds RetCode: 0 Status: OK PackageFile: dir.expiry_1.12.0.tar.gz PackageFileSize: 300.9 KiB