Package: dir.expiry Version: 1.12.0 Command: E:\biocbuild\bbs-3.19-bioc\R\bin\R.exe CMD INSTALL dir.expiry StartedAt: 2024-10-16 15:58:19 -0400 (Wed, 16 Oct 2024) EndedAt: 2024-10-16 15:58:30 -0400 (Wed, 16 Oct 2024) EllapsedTime: 11.7 seconds RetCode: 0 Status: OK