Package: dittoSeq Version: 1.16.0 Maintainer: Daniel Bunis MaintainerEmail: daniel.bunis at ucsf.edu git_url: https://git.bioconductor.org/packages/dittoSeq git_branch: RELEASE_3_19 git_last_commit: 4eaffe3 git_last_commit_date: 2024-04-30 11:21:22 -0400 (Tue, 30 Apr 2024)