Package: dittoSeq Version: 1.16.0 Command: rm -rf dittoSeq.buildbin-libdir && mkdir dittoSeq.buildbin-libdir && /Users/biocbuild/BBS/utils/build-universal.sh dittoSeq_1.16.0.tar.gz /Library/Frameworks/R.framework/Resources/bin/R dittoSeq.buildbin-libdir StartedAt: 2024-10-18 18:13:35 -0400 (Fri, 18 Oct 2024) EndedAt: 2024-10-18 18:14:15 -0400 (Fri, 18 Oct 2024) EllapsedTime: 40.0 seconds RetCode: 0 Status: OK PackageFile: dittoSeq_1.16.0.tgz PackageFileSize: 2.809 MiB