Package: dittoSeq Version: 1.16.0 Command: /Library/Frameworks/R.framework/Resources/bin/R CMD build --keep-empty-dirs --no-resave-data dittoSeq StartedAt: 2024-10-16 23:26:35 -0400 (Wed, 16 Oct 2024) EndedAt: 2024-10-16 23:29:05 -0400 (Wed, 16 Oct 2024) EllapsedTime: 150.4 seconds RetCode: 0 Status: OK PackageFile: dittoSeq_1.16.0.tar.gz PackageFileSize: 3.298 MiB