Package: dittoSeq Version: 1.16.0 Command: /Library/Frameworks/R.framework/Resources/bin/R CMD build --keep-empty-dirs --no-resave-data dittoSeq StartedAt: 2024-06-09 20:47:09 -0400 (Sun, 09 Jun 2024) EndedAt: 2024-06-09 20:50:42 -0400 (Sun, 09 Jun 2024) EllapsedTime: 213.1 seconds RetCode: 0 Status: OK PackageFile: dittoSeq_1.16.0.tar.gz PackageFileSize: 3.298 MiB