Package: dittoSeq Version: 1.16.0 Command: /home/biocbuild/R/R-beta-2024-04-15_r86425/bin/R CMD build --keep-empty-dirs --no-resave-data dittoSeq StartedAt: 2024-05-08 23:57:10 -0000 (Wed, 08 May 2024) EndedAt: 2024-05-09 00:00:17 -0000 (Thu, 09 May 2024) EllapsedTime: 187.2 seconds RetCode: 0 Status: OK PackageFile: dittoSeq_1.16.0.tar.gz PackageFileSize: 2.495 MiB