Package: dittoSeq Version: 1.16.0 Command: rm -rf dittoSeq.buildbin-libdir && mkdir dittoSeq.buildbin-libdir && /Users/biocbuild/BBS/utils/build-universal.sh dittoSeq_1.16.0.tar.gz /Library/Frameworks/R.framework/Resources/bin/R dittoSeq.buildbin-libdir StartedAt: 2024-06-10 00:15:35 -0400 (Mon, 10 Jun 2024) EndedAt: 2024-06-10 00:16:13 -0400 (Mon, 10 Jun 2024) EllapsedTime: 38.2 seconds RetCode: 0 Status: OK PackageFile: dittoSeq_1.16.0.tgz PackageFileSize: 2.811 MiB