Package: dittoSeq Version: 1.16.0 Command: /Library/Frameworks/R.framework/Resources/bin/R CMD INSTALL dittoSeq StartedAt: 2024-06-09 15:11:22 -0400 (Sun, 09 Jun 2024) EndedAt: 2024-06-09 15:11:58 -0400 (Sun, 09 Jun 2024) EllapsedTime: 35.3 seconds RetCode: 0 Status: OK