Package: dittoSeq Version: 1.16.0 Command: rm -rf dittoSeq.buildbin-libdir && mkdir dittoSeq.buildbin-libdir && /Users/biocbuild/BBS/utils/build-universal.sh dittoSeq_1.16.0.tar.gz /Library/Frameworks/R.framework/Resources/bin/R dittoSeq.buildbin-libdir StartedAt: 2024-10-17 16:02:46 -0400 (Thu, 17 Oct 2024) EndedAt: 2024-10-17 16:03:55 -0400 (Thu, 17 Oct 2024) EllapsedTime: 69.3 seconds RetCode: 0 Status: OK PackageFile: dittoSeq_1.16.0.tgz PackageFileSize: 2.811 MiB