Package: dmrseq Version: 1.24.2 Command: /Library/Frameworks/R.framework/Resources/bin/R CMD INSTALL dmrseq StartedAt: 2024-10-16 16:56:17 -0400 (Wed, 16 Oct 2024) EndedAt: 2024-10-16 16:57:18 -0400 (Wed, 16 Oct 2024) EllapsedTime: 61.0 seconds RetCode: 0 Status: OK