Package: dmrseq Version: 1.24.2 Command: /home/biocbuild/bbs-3.19-bioc/R/bin/R CMD build --keep-empty-dirs --no-resave-data dmrseq StartedAt: 2024-10-16 18:15:29 -0400 (Wed, 16 Oct 2024) EndedAt: 2024-10-16 18:18:11 -0400 (Wed, 16 Oct 2024) EllapsedTime: 161.3 seconds RetCode: 0 Status: OK PackageFile: dmrseq_1.24.2.tar.gz PackageFileSize: 2.797 MiB