Package: dmrseq Version: 1.24.0 Command: chmod a+r dmrseq -R && F:\biocbuild\bbs-3.19-bioc\R\bin\R.exe CMD build --keep-empty-dirs --no-resave-data dmrseq StartedAt: 2024-06-26 18:28:21 -0400 (Wed, 26 Jun 2024) EndedAt: 2024-06-26 18:37:48 -0400 (Wed, 26 Jun 2024) EllapsedTime: 566.4 seconds RetCode: 0 Status: OK PackageFile: dmrseq_1.24.0.tar.gz PackageFileSize: 2.668 MiB