Package: doseR Version: 1.20.0 Command: /Library/Frameworks/R.framework/Resources/bin/R CMD build --keep-empty-dirs --no-resave-data doseR StartedAt: 2024-10-16 23:35:17 -0400 (Wed, 16 Oct 2024) EndedAt: 2024-10-16 23:35:56 -0400 (Wed, 16 Oct 2024) EllapsedTime: 38.8 seconds RetCode: 0 Status: OK PackageFile: doseR_1.20.0.tar.gz PackageFileSize: 1.344 MiB