Package: easier Version: 1.10.0 Command: rm -rf easier.buildbin-libdir && mkdir easier.buildbin-libdir && /Users/biocbuild/BBS/utils/build-universal.sh easier_1.10.0.tar.gz /Library/Frameworks/R.framework/Resources/bin/R easier.buildbin-libdir StartedAt: 2024-06-10 00:16:20 -0400 (Mon, 10 Jun 2024) EndedAt: 2024-06-10 00:17:06 -0400 (Mon, 10 Jun 2024) EllapsedTime: 46.1 seconds RetCode: 0 Status: OK PackageFile: easier_1.10.0.tgz PackageFileSize: 2.886 MiB