Package: easier Version: 1.10.0 Command: /Library/Frameworks/R.framework/Resources/bin/R CMD build --keep-empty-dirs --no-resave-data easier StartedAt: 2024-06-09 16:32:41 -0400 (Sun, 09 Jun 2024) EndedAt: 2024-06-09 16:38:46 -0400 (Sun, 09 Jun 2024) EllapsedTime: 364.6 seconds RetCode: 0 Status: OK PackageFile: easier_1.10.0.tar.gz PackageFileSize: 3.68 MiB