Package: easier Version: 1.10.0 Command: rm -rf easier.buildbin-libdir && mkdir easier.buildbin-libdir && E:\biocbuild\bbs-3.19-bioc\R\bin\R.exe CMD INSTALL --build --library=easier.buildbin-libdir easier_1.10.0.tar.gz StartedAt: 2024-10-17 07:43:43 -0400 (Thu, 17 Oct 2024) EndedAt: 2024-10-17 07:44:31 -0400 (Thu, 17 Oct 2024) EllapsedTime: 47.5 seconds RetCode: 0 Status: OK PackageFile: easier_1.10.0.zip PackageFileSize: 1.866 MiB