Package: easier Version: 1.10.0 Command: E:\biocbuild\bbs-3.19-bioc\R\bin\R.exe CMD check --no-multiarch --install=check:easier.install-out.txt --library=E:\biocbuild\bbs-3.19-bioc\R\library --no-vignettes --timings easier_1.10.0.tar.gz StartedAt: 2024-10-17 01:05:56 -0400 (Thu, 17 Oct 2024) EndedAt: 2024-10-17 01:16:29 -0400 (Thu, 17 Oct 2024) EllapsedTime: 632.4 seconds RetCode: 0 Status: OK CheckDir: easier.Rcheck Warnings: 0