Package: easylift Version: 1.2.0 Command: /Library/Frameworks/R.framework/Resources/bin/R CMD check --install=check:easylift.install-out.txt --library=/Library/Frameworks/R.framework/Resources/library --no-vignettes --timings easylift_1.2.0.tar.gz StartedAt: 2024-10-17 20:23:12 -0400 (Thu, 17 Oct 2024) EndedAt: 2024-10-17 20:28:01 -0400 (Thu, 17 Oct 2024) EllapsedTime: 289.1 seconds RetCode: 0 Status: OK CheckDir: easylift.Rcheck Warnings: 0