Package: easylift Version: 1.2.0 Command: /home/biocbuild/bbs-3.19-bioc/R/bin/R CMD build --keep-empty-dirs --no-resave-data easylift StartedAt: 2024-10-16 18:18:25 -0400 (Wed, 16 Oct 2024) EndedAt: 2024-10-16 18:19:11 -0400 (Wed, 16 Oct 2024) EllapsedTime: 46.1 seconds RetCode: 0 Status: OK PackageFile: easylift_1.2.0.tar.gz PackageFileSize: 673.6 KiB