Package: easylift Version: 1.2.0 Command: chmod a+r easylift -R && F:\biocbuild\bbs-3.19-bioc\R\bin\R.exe CMD build --keep-empty-dirs --no-resave-data easylift StartedAt: 2024-06-26 18:32:17 -0400 (Wed, 26 Jun 2024) EndedAt: 2024-06-26 18:33:07 -0400 (Wed, 26 Jun 2024) EllapsedTime: 50.0 seconds RetCode: 0 Status: OK PackageFile: easylift_1.2.0.tar.gz PackageFileSize: 673.5 KiB