Package: easyreporting Version: 1.16.0 Command: rm -rf easyreporting.buildbin-libdir && mkdir easyreporting.buildbin-libdir && /Users/biocbuild/BBS/utils/build-universal.sh easyreporting_1.16.0.tar.gz /Library/Frameworks/R.framework/Resources/bin/R easyreporting.buildbin-libdir StartedAt: 2024-10-17 16:04:45 -0400 (Thu, 17 Oct 2024) EndedAt: 2024-10-17 16:04:56 -0400 (Thu, 17 Oct 2024) EllapsedTime: 11.5 seconds RetCode: 0 Status: OK PackageFile: easyreporting_1.16.0.tgz PackageFileSize: 3.106 MiB